<PAMDataset>
  <SRS>PROJCS["NAD83_Kansas_North_ftUS",GEOGCS["GCS_North_American_1983",DATUM["D_North_American_1983",SPHEROID["GRS_1980",6378137,298.257222101]],PRIMEM["Greenwich",0],UNIT["Degree",0.017453292519943295]],PROJECTION["Lambert_Conformal_Conic"],PARAMETER["standard_parallel_1",39.78333333333333],PARAMETER["standard_parallel_2",38.71666666666667],PARAMETER["latitude_of_origin",38.33333333333334],PARAMETER["central_meridian",-98],PARAMETER["false_easting",1312333.3333],PARAMETER["false_northing",0],UNIT["Foot_US",0.30480060960121924]]</SRS>
  <GeoTransform>  1.3474810000000000e+06,  1.0000000000000000e+00,  0.0000000000000000e+00,  5.1607800000000000e+05,  0.0000000000000000e+00, -1.0000000000000000e+00</GeoTransform>
  <Metadata>
    <MDI key="GEOTIFF_CHAR__GTModelTypeGeoKey">ModelTypeProjected</MDI>
    <MDI key="GEOTIFF_CHAR__GTRasterTypeGeoKey">RasterPixelIsArea</MDI>
    <MDI key="GEOTIFF_CHAR__ProjectedCSTypeGeoKey">Unknown-3419</MDI>
    <MDI key="GEOTIFF_CHAR__ProjLinearUnitsGeoKey">Linear_Foot_US_Survey</MDI>
    <MDI key="GEOTIFF_NUM__1024__GTModelTypeGeoKey">1</MDI>
    <MDI key="GEOTIFF_NUM__1025__GTRasterTypeGeoKey">1</MDI>
    <MDI key="GEOTIFF_NUM__3072__ProjectedCSTypeGeoKey">3419</MDI>
    <MDI key="GEOTIFF_NUM__3073__PCSCitationGeoKey">NAD83 / Kansas North (ftUS)</MDI>
    <MDI key="GEOTIFF_NUM__3076__ProjLinearUnitsGeoKey">9003</MDI>
    <MDI key="IMAGE__ENCODING_APPLICATION">GeoExpress 10.0.1.5035</MDI>
    <MDI key="IMAGE__FORMAT">MrSID/MG4</MDI>
    <MDI key="IMAGE__INPUT_COMPRESSION_FORMAT">Standard JPEG</MDI>
    <MDI key="IMAGE__INPUT_FILE_SIZE">3326050926.000000</MDI>
    <MDI key="IMAGE__INPUT_FORMAT">GeoTIFF</MDI>
    <MDI key="IMAGE__LTI_ESDK_VERSION">9.5.4.5035.Bob_5011_br win64-vc15/Release_md                          </MDI>
    <MDI key="IMAGE__MODIFICATIONS">COMPRESSED INTERPRETED-ALPHA</MDI>
    <MDI key="VERSION">MG4</MDI>
  </Metadata>
  <Metadata domain="IMAGE_STRUCTURE">
    <MDI key="INTERLEAVE">PIXEL</MDI>
  </Metadata>
  <PAMRasterBand band="1">
    <Metadata>
      <MDI key="STATISTICS_MAXIMUM">254</MDI>
      <MDI key="STATISTICS_MINIMUM">1</MDI>
    </Metadata>
  </PAMRasterBand>
  <PAMRasterBand band="2">
    <Metadata>
      <MDI key="STATISTICS_MAXIMUM">254</MDI>
      <MDI key="STATISTICS_MINIMUM">1</MDI>
    </Metadata>
  </PAMRasterBand>
  <PAMRasterBand band="3">
    <Metadata>
      <MDI key="STATISTICS_MAXIMUM">254</MDI>
      <MDI key="STATISTICS_MINIMUM">1</MDI>
    </Metadata>
  </PAMRasterBand>
  <PAMRasterBand band="4">
    <Metadata>
      <MDI key="STATISTICS_MAXIMUM">254</MDI>
      <MDI key="STATISTICS_MINIMUM">1</MDI>
    </Metadata>
  </PAMRasterBand>
  <PAMRasterBand band="5">
    <Metadata>
      <MDI key="STATISTICS_MAXIMUM">255</MDI>
      <MDI key="STATISTICS_MINIMUM">0</MDI>
    </Metadata>
  </PAMRasterBand>
</PAMDataset>
