<?xml version="1.0" encoding="UTF-8"?>
<metadata xml:lang="en"><Esri><CreaDate>20240809</CreaDate><CreaTime>17001800</CreaTime><ArcGISFormat>1.0</ArcGISFormat><SyncOnce>FALSE</SyncOnce><DataProperties><itemProps><itemName Sync="TRUE">BE_2018_15SUC1585_KRCS11.IMG</itemName><itemLocation><linkage Sync="TRUE">file://C:\test\Kiuna\BE_2018_15SUC1585_KRCS11.IMG</linkage><protocol Sync="TRUE">Local Area Network</protocol></itemLocation><imsContentType Sync="TRUE">002</imsContentType><nativeExtBox><westBL Sync="TRUE">11534640.458745</westBL><eastBL Sync="TRUE">11551444.887078</eastBL><southBL Sync="TRUE">452249.777500</southBL><northBL Sync="TRUE">469054.205833</northBL><exTypeCode Sync="TRUE">1</exTypeCode></nativeExtBox></itemProps><coordRef><type Sync="TRUE">Projected</type><geogcsn Sync="TRUE">GCS_NAD_1983_2011</geogcsn><csUnits Sync="TRUE">Linear Unit: Foot_US (0.304801)</csUnits><projcsn Sync="TRUE">KRCS_11_Kansas_City_NAD_1983_2011_LCC_US_Feet</projcsn><peXml Sync="TRUE">&lt;ProjectedCoordinateSystem xsi:type='typens:ProjectedCoordinateSystem' xmlns:xsi='http://www.w3.org/2001/XMLSchema-instance' xmlns:xs='http://www.w3.org/2001/XMLSchema' xmlns:typens='http://www.esri.com/schemas/ArcGIS/2.6.0'&gt;&lt;WKT&gt;PROJCS[&amp;quot;KRCS_11_Kansas_City_NAD_1983_2011_LCC_US_Feet&amp;quot;,GEOGCS[&amp;quot;GCS_NAD_1983_2011&amp;quot;,DATUM[&amp;quot;D_NAD_1983_2011&amp;quot;,SPHEROID[&amp;quot;GRS_1980&amp;quot;,6378137.0,298.257222101]],PRIMEM[&amp;quot;Greenwich&amp;quot;,0.0],UNIT[&amp;quot;Degree&amp;quot;,0.0174532925199433]],PROJECTION[&amp;quot;Lambert_Conformal_Conic&amp;quot;],PARAMETER[&amp;quot;False_Easting&amp;quot;,11500000.0],PARAMETER[&amp;quot;False_Northing&amp;quot;,600000.0],PARAMETER[&amp;quot;Central_Meridian&amp;quot;,-95.25],PARAMETER[&amp;quot;Standard_Parallel_1&amp;quot;,39.1],PARAMETER[&amp;quot;Standard_Parallel_2&amp;quot;,39.1],PARAMETER[&amp;quot;Scale_Factor&amp;quot;,1.000033],PARAMETER[&amp;quot;Latitude_Of_Origin&amp;quot;,39.1],UNIT[&amp;quot;Foot_US&amp;quot;,0.3048006096012192]]&lt;/WKT&gt;&lt;XOrigin&gt;-110278200&lt;/XOrigin&gt;&lt;YOrigin&gt;-95394100&lt;/YOrigin&gt;&lt;XYScale&gt;36981985.50619483&lt;/XYScale&gt;&lt;ZOrigin&gt;-100000&lt;/ZOrigin&gt;&lt;ZScale&gt;10000&lt;/ZScale&gt;&lt;MOrigin&gt;-100000&lt;/MOrigin&gt;&lt;MScale&gt;10000&lt;/MScale&gt;&lt;XYTolerance&gt;0.0032808333333333331&lt;/XYTolerance&gt;&lt;ZTolerance&gt;0.001&lt;/ZTolerance&gt;&lt;MTolerance&gt;0.001&lt;/MTolerance&gt;&lt;HighPrecision&gt;true&lt;/HighPrecision&gt;&lt;/ProjectedCoordinateSystem&gt;</peXml></coordRef><RasterProperties><General><PixelDepth Sync="TRUE">32</PixelDepth><HasColormap Sync="TRUE">FALSE</HasColormap><CompressionType Sync="TRUE">RLE</CompressionType><NumBands Sync="TRUE">1</NumBands><Format Sync="TRUE">IMAGINE Image</Format><HasPyramids Sync="TRUE">TRUE</HasPyramids><SourceType Sync="TRUE">continuous</SourceType><PixelType Sync="TRUE">floating point</PixelType><NoDataValue Sync="TRUE">-9999</NoDataValue></General></RasterProperties><lineage><Process ToolSource="c:\program files\arcgis\pro\Resources\ArcToolbox\toolboxes\Data Management Tools.tbx\ProjectRaster" Date="20240809" Time="170018">ProjectRaster C:\test\Kiuna\BE_2018_15SUC1585.IMG C:\test\Kiuna\BE_2018_15SUC1585_KRCS11.IMG PROJCS['KRCS_11_Kansas_City_NAD_1983_2011_LCC_US_Feet',GEOGCS['GCS_NAD_1983_2011',DATUM['D_NAD_1983_2011',SPHEROID['GRS_1980',6378137.0,298.257222101]],PRIMEM['Greenwich',0.0],UNIT['Degree',0.0174532925199433]],PROJECTION['Lambert_Conformal_Conic'],PARAMETER['False_Easting',11500000.0],PARAMETER['False_Northing',600000.0],PARAMETER['Central_Meridian',-95.25],PARAMETER['Standard_Parallel_1',39.1],PARAMETER['Standard_Parallel_2',39.1],PARAMETER['Scale_Factor',1.000033],PARAMETER['Latitude_Of_Origin',39.1],UNIT['Foot_US',0.3048006096012192]] "Nearest neighbor" "3.28083333333333 3.28083333333333" NAD_1983_HARN_To_NAD_1983_2011 # PROJCS['NAD_1983_HARN_UTM_Zone_15N',GEOGCS['GCS_North_American_1983_HARN',DATUM['D_North_American_1983_HARN',SPHEROID['GRS_1980',6378137.0,298.257222101]],PRIMEM['Greenwich',0.0],UNIT['Degree',0.0174532925199433]],PROJECTION['Transverse_Mercator'],PARAMETER['False_Easting',500000.0],PARAMETER['False_Northing',0.0],PARAMETER['Central_Meridian',-93.0],PARAMETER['Scale_Factor',0.9996],PARAMETER['Latitude_Of_Origin',0.0],UNIT['Meter',1.0]] NO_VERTICAL</Process></lineage></DataProperties><SyncDate>20240809</SyncDate><SyncTime>17001800</SyncTime><ModDate>20240809</ModDate><ModTime>17001800</ModTime></Esri><dataIdInfo><envirDesc Sync="TRUE">Microsoft Windows 10 Version 10.0 (Build 19045) ; Esri ArcGIS 12.6.0.24783</envirDesc><dataLang><languageCode value="eng" Sync="TRUE"></languageCode><countryCode value="USA" Sync="TRUE"></countryCode></dataLang><idCitation><resTitle Sync="TRUE">BE_2018_15SUC1585_KRCS11.IMG</resTitle><presForm><PresFormCd value="005" Sync="TRUE"></PresFormCd></presForm></idCitation><spatRpType><SpatRepTypCd value="002" Sync="TRUE"></SpatRepTypCd></spatRpType><dataExt><geoEle><GeoBndBox esriExtentType="search"><exTypeCode Sync="TRUE">1</exTypeCode><westBL Sync="TRUE">-95.128643</westBL><eastBL Sync="TRUE">-95.069655</eastBL><northBL Sync="TRUE">38.740425</northBL><southBL Sync="TRUE">38.694211</southBL></GeoBndBox></geoEle></dataExt></dataIdInfo><mdLang><languageCode value="eng" Sync="TRUE"></languageCode><countryCode value="USA" Sync="TRUE"></countryCode></mdLang><mdChar><CharSetCd value="004" Sync="TRUE"></CharSetCd></mdChar><distInfo><distFormat><formatName Sync="TRUE">Raster Dataset</formatName></distFormat></distInfo><mdHrLv><ScopeCd value="005" Sync="TRUE"></ScopeCd></mdHrLv><mdHrLvName Sync="TRUE">dataset</mdHrLvName><refSysInfo><RefSystem><refSysID><identCode code="0" Sync="TRUE"></identCode></refSysID></RefSystem></refSysInfo><spatRepInfo><Georect><cellGeo><CellGeoCd Sync="TRUE" value="002"></CellGeoCd></cellGeo><numDims Sync="TRUE">2</numDims><tranParaAv Sync="TRUE">1</tranParaAv><chkPtAv Sync="TRUE">0</chkPtAv><cornerPts><pos Sync="TRUE">11534640.458745 452249.777500</pos></cornerPts><cornerPts><pos Sync="TRUE">11534640.458745 469054.205833</pos></cornerPts><cornerPts><pos Sync="TRUE">11551444.887078 469054.205833</pos></cornerPts><cornerPts><pos Sync="TRUE">11551444.887078 452249.777500</pos></cornerPts><centerPt><pos Sync="TRUE">11543042.672912 460651.991666</pos></centerPt><axisDimension type="002"><dimSize Sync="TRUE">5122</dimSize><dimResol><value Sync="TRUE" uom="ftUS">3.280833</value></dimResol></axisDimension><axisDimension type="001"><dimSize Sync="TRUE">5122</dimSize><dimResol><value Sync="TRUE" uom="ftUS">3.280833</value></dimResol></axisDimension><ptInPixel><PixOrientCd Sync="TRUE" value="001"></PixOrientCd></ptInPixel></Georect></spatRepInfo><contInfo><ImgDesc><contentTyp><ContentTypCd Sync="TRUE" value="001"></ContentTypCd></contentTyp><covDim><Band><dimDescrp Sync="TRUE">Layer_1</dimDescrp><maxVal Sync="TRUE">339.206665</maxVal><minVal Sync="TRUE">293.620300</minVal><bitsPerVal Sync="TRUE">32</bitsPerVal><valUnit><UOM type="length"></UOM></valUnit></Band></covDim></ImgDesc></contInfo><mdDateSt Sync="TRUE">20240809</mdDateSt></metadata>
